

BEGIN:VCALENDAR
VERSION:2.0
PRODID:ROCKHAL
BEGIN:VEVENT
UID:6069
DTSTAMP:20200413T180000
DTSTART:20200413T180000
DTEND:20200413T213000
SUMMARY:PARKWAY DRIVE
CLASS:PUBLIC
TRANSP:TRANSPARENT
END:VEVENT
END:VCALENDAR