BEGIN:VCALENDAR
VERSION:2.0
PRODID:ROCKHAL
BEGIN:VEVENT
UID:6377
DTSTAMP:20220525T200000
DTSTART:20220525T200000
DTEND:20220525T233000
SUMMARY:THERAPY?
CLASS:PUBLIC
TRANSP:TRANSPARENT
END:VEVENT
END:VCALENDAR