

BEGIN:VCALENDAR
VERSION:2.0
PRODID:ROCKHAL
BEGIN:VEVENT
UID:6037
DTSTAMP:20200324T200000
DTSTART:20200324T200000
DTEND:20200324T233000
SUMMARY:THERAPY?
CLASS:PUBLIC
TRANSP:TRANSPARENT
END:VEVENT
END:VCALENDAR