BEGIN:VCALENDAR
VERSION:2.0
PRODID:ROCKHAL
BEGIN:VEVENT
UID:6360
DTSTAMP:20220206T190000
DTSTART:20220206T190000
DTEND:20220206T223000
SUMMARY:ALBAN IVANOV
CLASS:PUBLIC
TRANSP:TRANSPARENT
END:VEVENT
END:VCALENDAR