

BEGIN:VCALENDAR
VERSION:2.0
PRODID:ROCKHAL
BEGIN:VEVENT
UID:5985
DTSTAMP:20200312T190000
DTSTART:20200312T190000
DTEND:20200312T223000
SUMMARY:KONTRA K
CLASS:PUBLIC
TRANSP:TRANSPARENT
END:VEVENT
END:VCALENDAR