

BEGIN:VCALENDAR
VERSION:2.0
PRODID:ROCKHAL
BEGIN:VEVENT
UID:5812
DTSTAMP:20200328T203000
DTSTART:20200328T203000
DTEND:20200329T000000
SUMMARY:KYAN KHOJANDI - UNE BONNE SOIREE
CLASS:PUBLIC
TRANSP:TRANSPARENT
END:VEVENT
END:VCALENDAR