

BEGIN:VCALENDAR
VERSION:2.0
PRODID:ROCKHAL
BEGIN:VEVENT
UID:5932
DTSTAMP:20200508T200000
DTSTART:20200508T200000
DTEND:20200508T233000
SUMMARY:LE LAC DES CYGNES
CLASS:PUBLIC
TRANSP:TRANSPARENT
END:VEVENT
END:VCALENDAR