

BEGIN:VCALENDAR
VERSION:2.0
PRODID:ROCKHAL
BEGIN:VEVENT
UID:6006
DTSTAMP:20200224T200000
DTSTART:20200224T200000
DTEND:20200224T233000
SUMMARY:LETTUCE
CLASS:PUBLIC
TRANSP:TRANSPARENT
END:VEVENT
END:VCALENDAR