

BEGIN:VCALENDAR
VERSION:2.0
PRODID:ROCKHAL
BEGIN:VEVENT
UID:5950
DTSTAMP:20200306T200000
DTSTART:20200306T200000
DTEND:20200306T233000
SUMMARY:LORENZO
CLASS:PUBLIC
TRANSP:TRANSPARENT
END:VEVENT
END:VCALENDAR