

BEGIN:VCALENDAR
VERSION:2.0
PRODID:ROCKHAL
BEGIN:VEVENT
UID:6030
DTSTAMP:20200307T141500
DTSTART:20200307T141500
DTEND:20200307T174500
SUMMARY:"LUMIÈRES" D'ELLIE JAMES
CLASS:PUBLIC
TRANSP:TRANSPARENT
END:VEVENT
END:VCALENDAR