

BEGIN:VCALENDAR
VERSION:2.0
PRODID:ROCKHAL
BEGIN:VEVENT
UID:5688
DTSTAMP:20181218T200000
DTSTART:20181218T200000
DTEND:20181218T233000
SUMMARY:LUXEMBOURG MUSIC AWARDS
CLASS:PUBLIC
TRANSP:TRANSPARENT
END:VEVENT
END:VCALENDAR