

BEGIN:VCALENDAR
VERSION:2.0
PRODID:ROCKHAL
BEGIN:VEVENT
UID:6034
DTSTAMP:20200325T190000
DTSTART:20200325T190000
DTEND:20200325T223000
SUMMARY:MALUMA
CLASS:PUBLIC
TRANSP:TRANSPARENT
END:VEVENT
END:VCALENDAR