

BEGIN:VCALENDAR
VERSION:2.0
PRODID:ROCKHAL
BEGIN:VEVENT
UID:5896
DTSTAMP:20200229T183000
DTSTART:20200229T183000
DTEND:20200229T220000
SUMMARY:MIA JULIA - DIE LIVE-KONZERTE
CLASS:PUBLIC
TRANSP:TRANSPARENT
END:VEVENT
END:VCALENDAR