BEGIN:VCALENDAR
VERSION:2.0
PRODID:ROCKHAL
BEGIN:VEVENT
UID:4915
DTSTAMP:20161008T200000
DTSTART:20161008T200000
DTEND:20161008T233000
SUMMARY:MUSIC FOR GOOD
CLASS:PUBLIC
TRANSP:TRANSPARENT
END:VEVENT
END:VCALENDAR