

BEGIN:VCALENDAR
VERSION:2.0
PRODID:ROCKHAL
BEGIN:VEVENT
UID:6010
DTSTAMP:20211018T180700
DTSTART:20211018T180700
DTEND:20211018T213700
SUMMARY:OTTO - LIVE
CLASS:PUBLIC
TRANSP:TRANSPARENT
END:VEVENT
END:VCALENDAR