

BEGIN:VCALENDAR
VERSION:2.0
PRODID:ROCKHAL
BEGIN:VEVENT
UID:6122
DTSTAMP:20200718T190000
DTSTART:20200718T190000
DTEND:20200718T223000
SUMMARY:OZUNA
CLASS:PUBLIC
TRANSP:TRANSPARENT
END:VEVENT
END:VCALENDAR