

BEGIN:VCALENDAR
VERSION:2.0
PRODID:ROCKHAL
BEGIN:VEVENT
UID:6120
DTSTAMP:20200321T210000
DTSTART:20200321T210000
DTEND:20200322T003000
SUMMARY:PARTY LIKE GATSBY - CABARET NOIR
CLASS:PUBLIC
TRANSP:TRANSPARENT
END:VEVENT
END:VCALENDAR