

BEGIN:VCALENDAR
VERSION:2.0
PRODID:ROCKHAL
BEGIN:VEVENT
UID:6076
DTSTAMP:20200612T190000
DTSTART:20200612T190000
DTEND:20200612T223000
SUMMARY:PNL
CLASS:PUBLIC
TRANSP:TRANSPARENT
END:VEVENT
END:VCALENDAR