

BEGIN:VCALENDAR
VERSION:2.0
PRODID:ROCKHAL
BEGIN:VEVENT
UID:6119
DTSTAMP:20200927T190000
DTSTART:20200927T190000
DTEND:20200927T223000
SUMMARY:QUEEN - THE UNIQUE ROCK-SYMPHONIC CELEBRATION
CLASS:PUBLIC
TRANSP:TRANSPARENT
END:VEVENT
END:VCALENDAR