

BEGIN:VCALENDAR
VERSION:2.0
PRODID:ROCKHAL
BEGIN:VEVENT
UID:6107
DTSTAMP:20200222T193000
DTSTART:20200222T193000
DTEND:20200222T230000
SUMMARY:RK
CLASS:PUBLIC
TRANSP:TRANSPARENT
END:VEVENT
END:VCALENDAR