BEGIN:VCALENDAR
VERSION:2.0
PRODID:ROCKHAL
BEGIN:VEVENT
UID:3675
DTSTAMP:20150227T190000
DTSTART:20150227T190000
DTEND:20150227T223000
SUMMARY:ROCKY HORROR SHOW
CLASS:PUBLIC
TRANSP:TRANSPARENT
END:VEVENT
END:VCALENDAR