

BEGIN:VCALENDAR
VERSION:2.0
PRODID:ROCKHAL
BEGIN:VEVENT
UID:5844
DTSTAMP:20200228T203000
DTSTART:20200228T203000
DTEND:20200229T000000
SUMMARY:ROMAN FRAYSSINET
CLASS:PUBLIC
TRANSP:TRANSPARENT
END:VEVENT
END:VCALENDAR