

BEGIN:VCALENDAR
VERSION:2.0
PRODID:ROCKHAL
BEGIN:VEVENT
UID:6024
DTSTAMP:20200409T200000
DTSTART:20200409T200000
DTEND:20200409T233000
SUMMARY:SALMO
CLASS:PUBLIC
TRANSP:TRANSPARENT
END:VEVENT
END:VCALENDAR