BEGIN:VCALENDAR
VERSION:2.0
PRODID:ROCKHAL
BEGIN:VEVENT
UID:6248
DTSTAMP:20201126T190000
DTSTART:20201126T190000
DTEND:20201126T223000
SUMMARY:SALVADOR SOBRAL
CLASS:PUBLIC
TRANSP:TRANSPARENT
END:VEVENT
END:VCALENDAR