

BEGIN:VCALENDAR
VERSION:2.0
PRODID:ROCKHAL
BEGIN:VEVENT
UID:6084
DTSTAMP:20200322T190000
DTSTART:20200322T190000
DTEND:20200322T223000
SUMMARY:SCARLXRD
CLASS:PUBLIC
TRANSP:TRANSPARENT
END:VEVENT
END:VCALENDAR