

BEGIN:VCALENDAR
VERSION:2.0
PRODID:ROCKHAL
BEGIN:VEVENT
UID:5940
DTSTAMP:20200507T200000
DTSTART:20200507T200000
DTEND:20200507T233000
SUMMARY:STEFFEN HENSSLER - MANCHE MÖGENS HEISS!
CLASS:PUBLIC
TRANSP:TRANSPARENT
END:VEVENT
END:VCALENDAR