BEGIN:VCALENDAR
VERSION:2.0
PRODID:ROCKHAL
BEGIN:VEVENT
UID:6274
DTSTAMP:20220602T200000
DTSTART:20220602T200000
DTEND:20220602T233000
SUMMARY:STEFFEN HENSSLER - MANCHE MÖGENS HEISS!
CLASS:PUBLIC
TRANSP:TRANSPARENT
END:VEVENT
END:VCALENDAR