BEGIN:VCALENDAR
VERSION:2.0
PRODID:ROCKHAL
BEGIN:VEVENT
UID:6583
DTSTAMP:20210721T200000
DTSTART:20210721T200000
DTEND:20210721T233000
SUMMARY:STIFF PEAKS - ROCKLAB POP-UP SESSIONS #11
CLASS:PUBLIC
TRANSP:TRANSPARENT
END:VEVENT
END:VCALENDAR