BEGIN:VCALENDAR
VERSION:2.0
PRODID:ROCKHAL
BEGIN:VEVENT
UID:5879
DTSTAMP:20190627T200000
DTSTART:20190627T200000
DTEND:20190627T233000
SUMMARY:SYML
CLASS:PUBLIC
TRANSP:TRANSPARENT
END:VEVENT
END:VCALENDAR