BEGIN:VCALENDAR
VERSION:2.0
PRODID:ROCKHAL
BEGIN:VEVENT
UID:6531
DTSTAMP:20210724T190000
DTSTART:20210724T190000
DTEND:20210724T223000
SUMMARY:ROCKHAL GARDEN: THE GRUND CLUB - SONGWRITER TALK & LIVE SHOW
CLASS:PUBLIC
TRANSP:TRANSPARENT
END:VEVENT
END:VCALENDAR