BEGIN:VCALENDAR
VERSION:2.0
PRODID:ROCKHAL
BEGIN:VEVENT
UID:6294
DTSTAMP:20211031T140000
DTSTART:20211031T140000
DTEND:20211031T173000
SUMMARY:THE LORD OF THE RINGS & THE HOBBIT - THE CONCERT
CLASS:PUBLIC
TRANSP:TRANSPARENT
END:VEVENT
END:VCALENDAR