

BEGIN:VCALENDAR
VERSION:2.0
PRODID:ROCKHAL
BEGIN:VEVENT
UID:6063
DTSTAMP:20200419T140000
DTSTART:20200419T140000
DTEND:20200419T173000
SUMMARY:THE LORD OF THE RINGS & THE HOBBIT - THE CONCERT
CLASS:PUBLIC
TRANSP:TRANSPARENT
END:VEVENT
END:VCALENDAR