BEGIN:VCALENDAR
VERSION:2.0
PRODID:ROCKHAL
BEGIN:VEVENT
UID:6293
DTSTAMP:20211031T180000
DTSTART:20211031T180000
DTEND:20211031T213000
SUMMARY:THE MUSIC OF HANS ZIMMER & OTHERS - A CELEBRATION OF FILM MUSIC
CLASS:PUBLIC
TRANSP:TRANSPARENT
END:VEVENT
END:VCALENDAR