

BEGIN:VCALENDAR
VERSION:2.0
PRODID:ROCKHAL
BEGIN:VEVENT
UID:6064
DTSTAMP:20200419T180000
DTSTART:20200419T180000
DTEND:20200419T213000
SUMMARY:THE MUSIC OF HANS ZIMMER & OTHERS - A CELEBRATION OF FILM MUSIC
CLASS:PUBLIC
TRANSP:TRANSPARENT
END:VEVENT
END:VCALENDAR