BEGIN:VCALENDAR
VERSION:2.0
PRODID:ROCKHAL
BEGIN:VEVENT
UID:6418
DTSTAMP:20220127T190000
DTSTART:20220127T190000
DTEND:20220127T223000
SUMMARY:THRILLER - LIVE
CLASS:PUBLIC
TRANSP:TRANSPARENT
END:VEVENT
END:VCALENDAR