BEGIN:VCALENDAR
VERSION:2.0
PRODID:ROCKHAL
BEGIN:VEVENT
UID:6323
DTSTAMP:20220119T200000
DTSTART:20220119T200000
DTEND:20220119T233000
SUMMARY:TRYO
CLASS:PUBLIC
TRANSP:TRANSPARENT
END:VEVENT
END:VCALENDAR