BEGIN:VCALENDAR
VERSION:2.0
PRODID:ROCKHAL
BEGIN:VEVENT
UID:6426
DTSTAMP:20220527T190000
DTSTART:20220527T190000
DTEND:20220527T223000
SUMMARY:VÉRONIC DICAIRE - SHOWGIRL TOUR
CLASS:PUBLIC
TRANSP:TRANSPARENT
END:VEVENT
END:VCALENDAR