

BEGIN:VCALENDAR
VERSION:2.0
PRODID:ROCKHAL
BEGIN:VEVENT
UID:6114
DTSTAMP:20200313T183000
DTSTART:20200313T183000
DTEND:20200313T220000
SUMMARY:VIDEO CLIP NIGHT AT LUXFILMFEST
CLASS:PUBLIC
TRANSP:TRANSPARENT
END:VEVENT
END:VCALENDAR