BEGIN:VCALENDAR
VERSION:2.0
PRODID:ROCKHAL
BEGIN:VEVENT
UID:6335
DTSTAMP:20211116T200000
DTSTART:20211116T200000
DTEND:20211116T233000
SUMMARY:WARDRUNA
CLASS:PUBLIC
TRANSP:TRANSPARENT
END:VEVENT
END:VCALENDAR