

BEGIN:VCALENDAR
VERSION:2.0
PRODID:ROCKHAL
BEGIN:VEVENT
UID:6051
DTSTAMP:20200520T190000
DTSTART:20200520T190000
DTEND:20200520T223000
SUMMARY:YES
CLASS:PUBLIC
TRANSP:TRANSPARENT
END:VEVENT
END:VCALENDAR