BEGIN:VCALENDAR
VERSION:2.0
PRODID:ROCKHAL
BEGIN:VEVENT
UID:6140
DTSTAMP:20200715T190000
DTSTART:20200715T190000
DTEND:20200715T223000
SUMMARY:JESSIE J
CLASS:PUBLIC
TRANSP:TRANSPARENT
END:VEVENT
END:VCALENDAR