

BEGIN:VCALENDAR
VERSION:2.0
PRODID:ROCKHAL
BEGIN:VEVENT
UID:6106
DTSTAMP:20201031T190000
DTSTART:20201031T190000
DTEND:20201031T223000
SUMMARY:LEGENDS OF ROCK TRIBUTE TOUR
CLASS:PUBLIC
TRANSP:TRANSPARENT
END:VEVENT
END:VCALENDAR