BEGIN:VCALENDAR
VERSION:2.0
PRODID:ROCKHAL
BEGIN:VEVENT
UID:5468
DTSTAMP:20180723T203000
DTSTART:20180723T203000
DTEND:20180724T000000
SUMMARY:LENNY KRAVITZ
CLASS:PUBLIC
TRANSP:TRANSPARENT
END:VEVENT
END:VCALENDAR