

BEGIN:VCALENDAR
VERSION:2.0
PRODID:ROCKHAL
BEGIN:VEVENT
UID:6083
DTSTAMP:20200416T200000
DTSTART:20200416T200000
DTEND:20200416T233000
SUMMARY:MARIE FLORE
CLASS:PUBLIC
TRANSP:TRANSPARENT
END:VEVENT
END:VCALENDAR