

BEGIN:VCALENDAR
VERSION:2.0
PRODID:ROCKHAL
BEGIN:VEVENT
UID:6011
DTSTAMP:20200317T200000
DTSTART:20200317T200000
DTEND:20200317T233000
SUMMARY:POMME
CLASS:PUBLIC
TRANSP:TRANSPARENT
END:VEVENT
END:VCALENDAR