

BEGIN:VCALENDAR
VERSION:2.0
PRODID:ROCKHAL
BEGIN:VEVENT
UID:6071
DTSTAMP:20200313T200000
DTSTART:20200313T200000
DTEND:20200313T233000
SUMMARY:PTOLEMEA – “MAZE” EP RELEASE PARTY
CLASS:PUBLIC
TRANSP:TRANSPARENT
END:VEVENT
END:VCALENDAR