

BEGIN:VCALENDAR
VERSION:2.0
PRODID:ROCKHAL
BEGIN:VEVENT
UID:5916
DTSTAMP:20200220T203000
DTSTART:20200220T203000
DTEND:20200221T000000
SUMMARY:ROYAL REPUBLIC
CLASS:PUBLIC
TRANSP:TRANSPARENT
END:VEVENT
END:VCALENDAR