BEGIN:VCALENDAR
VERSION:2.0
PRODID:ROCKHAL
BEGIN:VEVENT
UID:4359
DTSTAMP:20150925T200000
DTSTART:20150925T200000
DTEND:20150925T233000
SUMMARY:STEVEN WILSON
CLASS:PUBLIC
TRANSP:TRANSPARENT
END:VEVENT
END:VCALENDAR