BEGIN:VCALENDAR
VERSION:2.0
PRODID:ROCKHAL
BEGIN:VEVENT
UID:6417
DTSTAMP:20210923T190000
DTSTART:20210923T190000
DTEND:20210923T223000
SUMMARY:STEVEN WILSON
CLASS:PUBLIC
TRANSP:TRANSPARENT
END:VEVENT
END:VCALENDAR