BEGIN:VCALENDAR
VERSION:2.0
PRODID:ROCKHAL
BEGIN:VEVENT
UID:6261
DTSTAMP:20220329T190000
DTSTART:20220329T190000
DTEND:20220329T223000
SUMMARY:STING
CLASS:PUBLIC
TRANSP:TRANSPARENT
END:VEVENT
END:VCALENDAR